BEGIN:VCALENDAR
VERSION:2.0
PRODID:-//SBOSS Montgomery - ECPv6.10.1.1//NONSGML v1.0//EN
CALSCALE:GREGORIAN
METHOD:PUBLISH
X-WR-CALNAME:SBOSS Montgomery
X-ORIGINAL-URL:https://sbossmgm.com
X-WR-CALDESC:Events for SBOSS Montgomery
REFRESH-INTERVAL;VALUE=DURATION:PT1H
X-Robots-Tag:noindex
X-PUBLISHED-TTL:PT1H
BEGIN:VTIMEZONE
TZID:America/Chicago
BEGIN:DAYLIGHT
TZOFFSETFROM:-0600
TZOFFSETTO:-0500
TZNAME:CDT
DTSTART:20260308T080000
END:DAYLIGHT
BEGIN:STANDARD
TZOFFSETFROM:-0500
TZOFFSETTO:-0600
TZNAME:CST
DTSTART:20261101T070000
END:STANDARD
END:VTIMEZONE
BEGIN:VEVENT
DTSTART;TZID=America/Chicago:20260317T100000
DTEND;TZID=America/Chicago:20260317T110000
DTSTAMP:20260419T065843
CREATED:20260225T190203Z
LAST-MODIFIED:20260225T190203Z
UID:1695-1773741600-1773745200@sbossmgm.com
SUMMARY:ENGAGE IN ENTREPRENEURSHIP
DESCRIPTION:Engage in Entrepreneurship is the entry point for entrepreneurs who are ready to stop collecting information and start building with direction. This interactive workshop helps you think through the basic components of launching or growing a business—without overwhelm and without assuming you already know the process.  \nYou’ll identify what stage you’re in\, what your business needs right now\, and what your next best steps should be. You’ll also learn how SBOSS and its partner network can support you beyond this session through coaching and resource pathways. If you’ve been carrying an idea\, feeling stuck\, or unsure what to prioritize\, this workshop is designed to help you move forward with clarity. \nSecure Your Seat Now\n \n 
URL:https://sbossmgm.com/index.php/event/engage-in-entrepreneurship-2/
LOCATION:Virtual
CATEGORIES:Workshops & Training
ATTACH;FMTTYPE=image/png:https://sbossmgm.com/wp-content/uploads/2026/02/image_70B29278-2025-43F8-96E2-904507B29920-1.png
END:VEVENT
BEGIN:VEVENT
DTSTART;TZID=America/Chicago:20260317T110000
DTEND;TZID=America/Chicago:20260317T130000
DTSTAMP:20260419T065843
CREATED:20260304T195919Z
LAST-MODIFIED:20260304T195959Z
UID:1705-1773745200-1773752400@sbossmgm.com
SUMMARY:AI\, Actually Lunch & Learn
DESCRIPTION:Artificial Intelligence is everywhere — but very few entrepreneurs know how to actually apply it in a way that strengthens their business. AI\, Actually is a hands-on working session designed for women entrepreneurs\, professionals\, and leaders who want to move beyond experimenting with AI and begin using it strategically. \nLed by Tania Johns\, Principal Consultant at PRC Impact\, this interactive session will walk participants through how AI can help sharpen messaging\, clarify business positioning\, and strengthen key business assets. \nParticipants will leave with real applications they can implement immediately\, including frameworks for using AI as a strategic partner in business planning and communication. \nNo technical experience is required — just bring your ideas. \nRegister Today
URL:https://sbossmgm.com/index.php/event/1705/
LOCATION:Dream Makers Studio\, 39 Dexter Avenue\, Suite 209\, Montgomery\, AL\, 36104\, United States
CATEGORIES:Workshops & Training
ATTACH;FMTTYPE=image/png:https://sbossmgm.com/wp-content/uploads/2026/03/AI-Actually-Banner.png
END:VEVENT
END:VCALENDAR