BEGIN:VCALENDAR
VERSION:2.0
PRODID:-//SBOSS Montgomery - ECPv6.10.1.1//NONSGML v1.0//EN
CALSCALE:GREGORIAN
METHOD:PUBLISH
X-WR-CALNAME:SBOSS Montgomery
X-ORIGINAL-URL:https://sbossmgm.com
X-WR-CALDESC:Events for SBOSS Montgomery
REFRESH-INTERVAL;VALUE=DURATION:PT1H
X-Robots-Tag:noindex
X-PUBLISHED-TTL:PT1H
BEGIN:VTIMEZONE
TZID:America/Chicago
BEGIN:DAYLIGHT
TZOFFSETFROM:-0600
TZOFFSETTO:-0500
TZNAME:CDT
DTSTART:20260308T080000
END:DAYLIGHT
BEGIN:STANDARD
TZOFFSETFROM:-0500
TZOFFSETTO:-0600
TZNAME:CST
DTSTART:20261101T070000
END:STANDARD
END:VTIMEZONE
BEGIN:VEVENT
DTSTART;TZID=America/Chicago:20260318T173000
DTEND;TZID=America/Chicago:20260318T193000
DTSTAMP:20260419T065838
CREATED:20260304T200316Z
LAST-MODIFIED:20260304T200316Z
UID:1709-1773855000-1773862200@sbossmgm.com
SUMMARY:Small Business Mixer: Legacy Edition
DESCRIPTION:The SBOSS Small Business Mixer brings together entrepreneurs\, professionals\, and community leaders to connect\, collaborate\, and strengthen Montgomery’s business ecosystem. This Women’s History Month Legacy Edition highlights the impact women entrepreneurs have had in shaping local business and community leadership. \nThe evening will feature a conversation with Monica Whiting\, entrepreneur\, attorney\, and owner of Baristas & Barristers\, as she shares insights on entrepreneurship\, legacy building\, and the role small businesses play in strengthening communities. \nParticipants will have the opportunity to network with fellow business owners\, exchange ideas\, and build relationships that support long-term growth. \nWhether you’re launching a business\, growing an established company\, or supporting local entrepreneurs\, this mixer offers an opportunity to engage with Montgomery’s business community. \nSecure Your Seat Now
URL:https://sbossmgm.com/index.php/event/small-business-mixer-legacy-edition/
LOCATION:Dream Makers Studio\, 39 Dexter Avenue\, Suite 209\, Montgomery\, AL\, 36104\, United States
CATEGORIES:Networking Events
ATTACH;FMTTYPE=image/png:https://sbossmgm.com/wp-content/uploads/2026/03/Mixer-Banner.png
END:VEVENT
END:VCALENDAR