BEGIN:VCALENDAR
VERSION:2.0
PRODID:-//SBOSS Montgomery - ECPv6.10.1.1//NONSGML v1.0//EN
CALSCALE:GREGORIAN
METHOD:PUBLISH
X-WR-CALNAME:SBOSS Montgomery
X-ORIGINAL-URL:https://sbossmgm.com
X-WR-CALDESC:Events for SBOSS Montgomery
REFRESH-INTERVAL;VALUE=DURATION:PT1H
X-Robots-Tag:noindex
X-PUBLISHED-TTL:PT1H
BEGIN:VTIMEZONE
TZID:America/Chicago
BEGIN:DAYLIGHT
TZOFFSETFROM:-0600
TZOFFSETTO:-0500
TZNAME:CDT
DTSTART:20260308T080000
END:DAYLIGHT
BEGIN:STANDARD
TZOFFSETFROM:-0500
TZOFFSETTO:-0600
TZNAME:CST
DTSTART:20261101T070000
END:STANDARD
END:VTIMEZONE
BEGIN:VEVENT
DTSTART;TZID=America/Chicago:20260504T110000
DTEND;TZID=America/Chicago:20260504T120000
DTSTAMP:20260422T175357
CREATED:20260422T150047Z
LAST-MODIFIED:20260422T032928Z
UID:2166-1777892400-1777896000@sbossmgm.com
SUMMARY:Before You Sign The Lease
DESCRIPTION:Most small business owners spend weeks — sometimes months — searching for the perfect space. They imagine their customers walking through the door\, picture where the signage will go\, and start making plans before anyone has asked a single question about zoning\, inspections\, or what it actually takes to legally open in that building. By the time they find out the space doesn’t meet code\, or the zoning doesn’t allow their business type\, or the Certificate of Occupancy process will take three months\, they’ve already committed. \n  \nBefore You Sign The Lease is designed to prevent that. This workshop walks small business owners through the critical steps that should happen before a lease ever gets signed — the questions to ask\, the offices to contact\, and the process to understand so that when you find the right space\, you’re ready to move forward without costly surprises. \nLed by City of Montgomery Inspections Chief Pat McGilberry\, the session covers three core areas: \n\nZONING — What it is\, why it matters\, and how to verify that your intended use is permitted at a given location before you invest time and money into a space. Not every business can operate in every zone — and finding out after you’ve signed is a problem SBOSS is helping you avoid.\nINSPECTIONS — What a pre-lease inspection looks at\, what business owners should be looking for themselves before they sign off on a space\, and what condition a property needs to be in before it’s ready for occupancy. This is the part of the process most first-time commercial tenants skip entirely.\nCERTIFICATE OF OCCUPANCY — The step-by-step process for obtaining your CO in Montgomery: what it requires\, what triggers a new CO requirement\, how long the process typically takes\, and what happens if you try to open without one.\n\nWe may also touch on lease negotiation basics — understanding what terms are actually negotiable and what to ask for before you put pen to paper. \nIf you are actively looking for a space\, preparing to sign a lease\, or planning ahead for a future location\, this workshop is the foundation. Come with your questions. Leave with a clear picture of exactly what to do before you commit. \n Register Now
URL:https://sbossmgm.com/index.php/event/before-you-sign-the-lease/
LOCATION:Dream Makers Studio\, 39 Dexter Avenue\, Suite 209\, Montgomery\, AL\, 36104\, United States
ATTACH;FMTTYPE=image/jpeg:https://sbossmgm.com/wp-content/uploads/2026/04/Before-You-Sign-The-Lease-Banner.jpg
END:VEVENT
END:VCALENDAR